BEGIN:VCALENDAR
VERSION:2.0
PRODID:-//ChamberMaster//Event Calendar 2.0//EN
METHOD:PUBLISH
X-PUBLISHED-TTL:P3D
REFRESH-INTERVAL:P3D
CALSCALE:GREGORIAN
BEGIN:VEVENT
DTSTART:20250418T153000Z
DTEND:20250418T163000Z
X-MICROSOFT-CDO-ALLDAYEVENT:FALSE
SUMMARY:Upcoming Staff Training on Emotional Intelligence – April 18th
DESCRIPTION:Join us on Friday\, April 18th at 11:30 AM at the Fayette County Family YMCA for a special training hosted in collaboration with Fayette County Economic Development and OSU Extension Fayette.\n\nTopic: Unlocking Emotional Intelligence   Building Better Relationships and Self-Awareness\n\nThis free training is a great chance to enhance your personal and professional skills. Open to the community   all are welcome!\n\nDon't miss out on this opportunity to grow and connect!
X-ALT-DESC;FMTTYPE=text/html:<p>Join us on <strong>Friday\, April 18th at 11:30 AM</strong> at the <strong>Fayette County Family YMCA</strong> for a special training hosted in collaboration with <strong>Fayette County Economic Development</strong> and <strong>OSU Extension Fayette</strong>.</p>\n\n<p><strong>Topic:</strong> <em>Unlocking Emotional Intelligence &ndash\; Building Better Relationships and Self-Awareness</em></p>\n\n<p>This free training is a great chance to enhance your personal and professional skills. Open to the community &mdash\; all are welcome!</p>\n\n<p>Don&#39\;t miss out on this opportunity to grow and connect!</p>\n
LOCATION:Fayette County Family YMCA 100 Civic Dr. Washington Court House\, OH 43160
UID:e.7799.660
SEQUENCE:3
DTSTAMP:20260422T212913Z
URL:https://business.fayettecountyohio.com/events/details/upcoming-staff-training-on-emotional-intelligence-april-18th-660
END:VEVENT

END:VCALENDAR
