BEGIN:VCALENDAR
VERSION:2.0
PRODID:-//ChamberMaster//Event Calendar 2.0//EN
METHOD:PUBLISH
X-PUBLISHED-TTL:P3D
REFRESH-INTERVAL:P3D
CALSCALE:GREGORIAN
BEGIN:VEVENT
DTSTART:20171018T210000Z
DTEND:20171018T230000Z
X-MICROSOFT-CDO-ALLDAYEVENT:FALSE
SUMMARY:Business After Hours - Hosted by Fayette County Memorial Hospital
DESCRIPTION:Business After Hours is the monthly networking event of the Fayette County Chamber of Commerce. Hosted by a different business each month\, this is your chance to network\, learn about a local business\, and enjoy some food & fellowship. Join us!
X-ALT-DESC;FMTTYPE=text/html:Business After Hours is the monthly networking event of the Fayette County Chamber of Commerce. Hosted by a different business each month\, this is your chance to network\, learn about a local business\, and enjoy some food &amp\; fellowship. Join us!&nbsp\;
LOCATION:FCMH - Medical Arts Building 2 1430 Columbus Avenue Washington Ct Hse OH 43160
UID:e.7799.73
SEQUENCE:3
DTSTAMP:20260421T125446Z
URL:https://business.fayettecountyohio.com/events/details/business-after-hours-hosted-by-fayette-county-memorial-hospital-73
END:VEVENT

END:VCALENDAR
