BEGIN:VCALENDAR
VERSION:2.0
PRODID:-//ChamberMaster//Event Calendar 2.0//EN
METHOD:PUBLISH
X-PUBLISHED-TTL:P3D
REFRESH-INTERVAL:P3D
CALSCALE:GREGORIAN
BEGIN:VEVENT
DTSTART:20231126T200000Z
DTEND:20231126T200000Z
X-MICROSOFT-CDO-ALLDAYEVENT:FALSE
SUMMARY:2023 Christmas Parade
DESCRIPTION:Mark your calendars and join us for the Annual Christmas Parade. Join as a spectator or as a participant. We love to see Washington C.H. come together in celebration!
X-ALT-DESC;FMTTYPE=text/html:<span style="color:#B22222\;"><span style="font-size:18px\;"><span style="font-family:comic sans ms\;"><var>Mark your calendars and join us for the Annual Christmas Parade. Join as a spectator or as a participant. We love to see Washington C.H. come together in celebration!</var></span></span></span>
LOCATION:The parade will follow its traditional route: beginning on Elm Street near McDonald's\, turning left onto Columbus Ave. to Court St to Circle Ave\, where it will disband at McHenry Field.
UID:e.7799.276
SEQUENCE:3
DTSTAMP:20260422T075243Z
URL:https://business.fayettecountyohio.com/events/details/2023-christmas-parade-276
END:VEVENT

END:VCALENDAR
